BEGIN:VCALENDAR
VERSION:2.0
PRODID:-//wp-events-plugin.com//7.2.3.1//EN
TZID:Europe/Paris
X-WR-TIMEZONE:Europe/Paris
BEGIN:VEVENT
UID:554@aldil.org
DTSTART;TZID=Europe/Paris:20240113T090000
DTEND;TZID=Europe/Paris:20240113T130000
DTSTAMP:20231219T201348Z
URL:https://www.aldil.org/events/assemblee-generale-2023/
SUMMARY:Assemblée générale 2023
DESCRIPTION:L'assemblée générale 2023 de l'ALDIL aura lieu à la Maison 
 pour Tous en salle Vie Citoyenne. Seuls les membres à jour de cotisation 
 pourront voter\, n'oubliez pas de régulariser votre situation en amont ou
  sur place en venant avec un chèque.
LOCATION:Maison pour tous / Salle des Rancy\, 249 rue Vendôme\, LYON\, 690
 03\, Auvergne-Rhône-Alpes\, France
GEO:45.755975;4.847774
X-APPLE-STRUCTURED-LOCATION;VALUE=URI;X-ADDRESS=249 rue Vendôme\, LYON\, 6
 9003\, Auvergne-Rhône-Alpes\, France;X-APPLE-RADIUS=100;X-TITLE=Maison po
 ur tous / Salle des Rancy:geo:45.755975,4.847774
END:VEVENT
BEGIN:VTIMEZONE
TZID:Europe/Paris
X-LIC-LOCATION:Europe/Paris
BEGIN:STANDARD
DTSTART:20231029T020000
TZOFFSETFROM:+0200
TZOFFSETTO:+0100
TZNAME:CET
END:STANDARD
END:VTIMEZONE
END:VCALENDAR