BEGIN:VCALENDAR
VERSION:2.0
PRODID:-//wp-events-plugin.com//7.2.3.1//EN
TZID:Europe/Paris
X-WR-TIMEZONE:Europe/Paris
BEGIN:VEVENT
UID:548@aldil.org
DTSTART;TZID=Europe/Paris:20240117T190000
DTEND;TZID=Europe/Paris:20240117T210000
DTSTAMP:20241120T191349Z
URL:https://www.aldil.org/events/atelier-technique-3-2024-01-17/
SUMMARY:Atelier technique
DESCRIPTION:Cet atelier technique récurrent a pour objectif d’étudier l
 es possibilités qui s’offrent aux bénévoles de l’ALDIL pour amélio
 rer le déroulement du quotidien des bénévoles\, des entraides et bidoui
 lles\, ainsi que des Install Party. Il est ouvert aux personnes techniques
  et aux bénévoles. Ce n’est pas un atelier d’entraide ou de dépanna
 ge.\nPas de salle. Cela se fera exclusivement sur Big Blue Button (sans in
 scription) :\nhttps://bbb.faimaison.net/b/ass-fb1-zfh-jow\n
END:VEVENT
BEGIN:VTIMEZONE
TZID:Europe/Paris
X-LIC-LOCATION:Europe/Paris
BEGIN:STANDARD
DTSTART:20231029T020000
TZOFFSETFROM:+0200
TZOFFSETTO:+0100
TZNAME:CET
END:STANDARD
END:VTIMEZONE
END:VCALENDAR