BEGIN:VCALENDAR
VERSION:2.0
PRODID:-//wp-events-plugin.com//7.2.3.1//EN
TZID:Europe/Paris
X-WR-TIMEZONE:Europe/Paris
BEGIN:VEVENT
UID:485@aldil.org
DTSTART;TZID=Europe/Paris:20230807T193000
DTEND;TZID=Europe/Paris:20230807T210000
DTSTAMP:20230731T192912Z
URL:https://www.aldil.org/events/atelier-technique-mises-a-jour-de-debian-
 2/
SUMMARY:Atelier technique : mises à jour de Debian
DESCRIPTION:Thème spécial pour cette réunion : la mise à jour vers Debi
 an 12 des conteneurs LXC.\n\n&nbsp\;\nPas de salle. Cela se fera exclusive
 ment sur Big Blue Button (sans inscription) :\nhttps://bbb.faimaison.net/b
 /ass-fb1-zfh-jow
END:VEVENT
BEGIN:VTIMEZONE
TZID:Europe/Paris
X-LIC-LOCATION:Europe/Paris
BEGIN:DAYLIGHT
DTSTART:20230326T030000
TZOFFSETFROM:+0100
TZOFFSETTO:+0200
TZNAME:CEST
END:DAYLIGHT
END:VTIMEZONE
END:VCALENDAR