BEGIN:VCALENDAR
VERSION:2.0
PRODID:-//wp-events-plugin.com//7.2.3.1//EN
TZID:Europe/Paris
X-WR-TIMEZONE:Europe/Paris
BEGIN:VEVENT
UID:480@aldil.org
DTSTART;TZID=Europe/Paris:20240208T190000
DTEND;TZID=Europe/Paris:20240208T220000
DTSTAMP:20240202T172552Z
URL:https://www.aldil.org/events/entraide-et-bidouille-26/
SUMMARY:Entraide et bidouille
DESCRIPTION:Gratuit – inscription recommandée : cliquez ici\nCe rendez-v
 ous mensuel propose d’accompagner les utilisateurs et utilisatrices de l
 ogiciels libres dans la résolution de leurs problèmes informatiques.\n\n
 C’est l’occasion de voir comment ça marche\, de demander ou de donner
  un coup de pouce\, de découvrir ou faire découvrir une astuce\, d’ins
 taller GNU/Linux.\n\nRappel : aucune installation de logiciel sous licence
  ne pourra être faite sans présentation de la licence et de sa preuve d
 ’achat.\nLes interventions sont acceptées par défaut uniquement sous l
 es systèmes GNU/Linux.\nPour des interventions sur d’autres systèmes (
 mobiles Android\, des logiciels libres sous Windows)\, merci de spécifier
  les détails en commentaire du formulaire d'inscription (cliquez ici).\n\
 nPour échanger avec nos bénévoles avant votre venue\, choisissez une de
 s méthodes de la rubrique "Nous contacter". Le chat par Framateam est une
  bonne solution pour les questions techniques.\n\nSalle : EPN\n\n&nbsp\;\n
 \n   
ATTACH;FMTTYPE=image/jpeg:https://www.aldil.org/wp-content/uploads/2022/08
 /install-party-rogne.jpg
CATEGORIES:Bidouille
LOCATION:Maison pour tous / Salle des Rancy\, 249 rue Vendôme\, LYON\, 690
 03\, Auvergne-Rhône-Alpes\, France
GEO:45.755975;4.847774
X-APPLE-STRUCTURED-LOCATION;VALUE=URI;X-ADDRESS=249 rue Vendôme\, LYON\, 6
 9003\, Auvergne-Rhône-Alpes\, France;X-APPLE-RADIUS=100;X-TITLE=Maison po
 ur tous / Salle des Rancy:geo:45.755975,4.847774
END:VEVENT
BEGIN:VTIMEZONE
TZID:Europe/Paris
X-LIC-LOCATION:Europe/Paris
BEGIN:STANDARD
DTSTART:20231029T020000
TZOFFSETFROM:+0200
TZOFFSETTO:+0100
TZNAME:CET
END:STANDARD
END:VTIMEZONE
END:VCALENDAR