BEGIN:VCALENDAR
VERSION:2.0
PRODID:-//wp-events-plugin.com//7.2.3.1//EN
TZID:Europe/Paris
X-WR-TIMEZONE:Europe/Paris
BEGIN:VEVENT
UID:408@aldil.org
DTSTART;TZID=Europe/Paris:20220402T100000
DTEND;TZID=Europe/Paris:20220403T180000
DTSTAMP:20211208T211825Z
URL:https://www.aldil.org/events/journees-du-logiciel-libre-2022/
SUMMARY:Journées du Logiciel Libre 2022
DESCRIPTION:Lieu de rencontre bouillonnant depuis 1998\, les Journées du L
 ogiciel Libre accueillent le temps d'un week-end plus d'un millier de curi
 euses et curieux de tout bord. Qu'importe votre niveau\, venez vous initie
 r\, partager vos idées\, vos projets et construire ensemble des lendemain
 s plus libres !\n\nLe thème de l'édition 2022 est : Utopies concrètes e
 t accessibles\n\nPlus d'infos sur le site dédié : https://jdll.org\n\n\n
 \n
LOCATION:Maison pour tous / Salle des Rancy\, 249 rue Vendôme\, LYON\, 690
 03\, Auvergne-Rhône-Alpes\, France
GEO:45.755975;4.847774
X-APPLE-STRUCTURED-LOCATION;VALUE=URI;X-ADDRESS=249 rue Vendôme\, LYON\, 6
 9003\, Auvergne-Rhône-Alpes\, France;X-APPLE-RADIUS=100;X-TITLE=Maison po
 ur tous / Salle des Rancy:geo:45.755975,4.847774
END:VEVENT
BEGIN:VTIMEZONE
TZID:Europe/Paris
X-LIC-LOCATION:Europe/Paris
BEGIN:DAYLIGHT
DTSTART:20220327T030000
TZOFFSETFROM:+0100
TZOFFSETTO:+0200
TZNAME:CEST
END:DAYLIGHT
END:VTIMEZONE
END:VCALENDAR