BEGIN:VCALENDAR
VERSION:2.0
PRODID:-//wp-events-plugin.com//7.2.3.1//EN
TZID:Europe/Paris
X-WR-TIMEZONE:Europe/Paris
BEGIN:VEVENT
UID:469@aldil.org
DTSTART;TZID=Europe/Paris:20230204T090000
DTEND;TZID=Europe/Paris:20230204T160000
DTSTAMP:20230131T094912Z
URL:https://www.aldil.org/events/lesfousducode-en-partenariat-avec-laldil/
SUMMARY:#Lesfousducode en partenariat avec L'Aldil
DESCRIPTION:AVIS À TOUT.E LES CURIEUX.SES DE LA TERRE\nDeux thèmes\nD’a
 bord en février apprenons à Coder\, POUR LES NULS et pour les plus fort.
 e.s\n(1) Samedi 4 Février 09h 16h : Apprenons ensemble à faire notre pre
 mière page internet ? Vous saurez tout les basiques\, pour comme ncer à 
 créer votre propre site internet\n(2) Samedi 11 Février 09h 16h : Appren
 ons à programmer . Puisque faire sa page internet n’est pas suffisant n
 ous apprendrons ensemble\, les balbutiements de la programmation. Ceux qui
  ont dis que c’était difficile n’ont en fait jamais essayé ! Avis au
 x Curieux.ses vous allez adorer . Jeux d’échecs\, chronomètre\, gérer
  son ordinateur\, communiquer avec ces ami.e.s\, dessiner\, faire de de la
  musique\, du son... tout commence par ca !\nEnsuite en Mars nous apprendr
 ons à créer notre premier petit robot\, soit même\nA vos clavier et vos
  tournevis\n\nEnsuite en Mars nous apprendrons à créer notre premier pet
 it robot\, soit même\n\nCes journées sont indépendantes\, même si elle
 s se complètent\nOuvert à tous\, débutant.e ou confirmé.e !\n
CATEGORIES:Atelier
LOCATION:ALTNET\, 7 place louis chazette\, Lyon\, Auvergne-Rhône-Alpes\, 6
 9001\, Métropole de Lyon\, France
GEO:45.773125;4.837484
X-APPLE-STRUCTURED-LOCATION;VALUE=URI;X-ADDRESS=7 place louis chazette\, Ly
 on\, Auvergne-Rhône-Alpes\, 69001\, Métropole de Lyon\, France;X-APPLE-R
 ADIUS=100;X-TITLE=ALTNET:geo:45.773125,4.837484
END:VEVENT
BEGIN:VTIMEZONE
TZID:Europe/Paris
X-LIC-LOCATION:Europe/Paris
BEGIN:STANDARD
DTSTART:20221030T020000
TZOFFSETFROM:+0200
TZOFFSETTO:+0100
TZNAME:CET
END:STANDARD
END:VTIMEZONE
END:VCALENDAR