BEGIN:VCALENDAR
VERSION:2.0
PRODID:-//wp-events-plugin.com//7.2.3.1//EN
TZID:Europe/Paris
X-WR-TIMEZONE:Europe/Paris
BEGIN:VEVENT
UID:845@aldil.org
DTSTART;TZID=Europe/Paris:20260512T090000
DTEND;TZID=Europe/Paris:20260512T180000
DTSTAMP:20260424T162726Z
URL:https://www.aldil.org/events/rpll-2026/
SUMMARY:RPLL 2026
DESCRIPTION:RPLL 2026\, le mardi 12 mai au Palais de la Bourse à Lyon
ATTACH;FMTTYPE=image/jpeg:https://www.aldil.org/wp-content/uploads/2024/05
 /RPLL_logo.png
CATEGORIES:Salon - Convention
LOCATION:Palais de la Bourse\, Place de la bourse\, Lyon\, Métropole de ly
 on\, 69002\, Auvergne-Rhône-Aples\, France
X-APPLE-STRUCTURED-LOCATION;VALUE=URI;X-ADDRESS=Place de la bourse\, Lyon\,
  Métropole de lyon\, 69002\, Auvergne-Rhône-Aples\, France;X-APPLE-RADIU
 S=100;X-TITLE=Palais de la Bourse:geo:0,0
END:VEVENT
BEGIN:VTIMEZONE
TZID:Europe/Paris
X-LIC-LOCATION:Europe/Paris
BEGIN:DAYLIGHT
DTSTART:20260329T030000
TZOFFSETFROM:+0100
TZOFFSETTO:+0200
TZNAME:CEST
END:DAYLIGHT
END:VTIMEZONE
END:VCALENDAR