BEGIN:VCALENDAR
VERSION:2.0
PRODID:-//wp-events-plugin.com//7.2.3.1//EN
TZID:Europe/Paris
X-WR-TIMEZONE:Europe/Paris
BEGIN:VEVENT
UID:563@aldil.org
DTSTART;TZID=Europe/Paris:20240301T110000
DTEND;TZID=Europe/Paris:20240303T190000
DTSTAMP:20240214T202219Z
URL:https://www.aldil.org/events/salon-primevere-2/
SUMMARY:Salon Primevère
DESCRIPTION:Comme chaque année\, l’ALDIL sera présente sur l’espace N
 umérique Libre du salon Primevère.\n\nStand B001\n\nOUVERTURE\nVendredi 
 : 11h-21h\nSamedi : 10h-20h\nDimanche : 10h-19h\n\nCONFERENCES\nVendredi 1
 3h00 : Les logiciels libres c'est quoi?\nSamedi 18h00 : Affranchir son ord
 inateur ou son téléphone des gafam\nDimanche 15h00 : Solutions libres po
 ur gérer sa structure\n\n&nbsp\;\n\nPlus d'infos sur https://www.salonpri
 mevere.org/
ATTACH;FMTTYPE=image/jpeg:https://www.aldil.org/wp-content/uploads/2024/02
 /primevere-2024.png
CATEGORIES:Primevère,Salon - Convention
LOCATION:EUREXPO LYON\, Boulevard de l'Europe\, CHASSIEU\, 69680\, Auvergne
 -Rhône-Alpes\, France
GEO:45.7318991;4.9481330
X-APPLE-STRUCTURED-LOCATION;VALUE=URI;X-ADDRESS=Boulevard de l'Europe\, CHA
 SSIEU\, 69680\, Auvergne-Rhône-Alpes\, France;X-APPLE-RADIUS=100;X-TITLE=
 EUREXPO LYON:geo:45.7318991,4.9481330
END:VEVENT
BEGIN:VTIMEZONE
TZID:Europe/Paris
X-LIC-LOCATION:Europe/Paris
BEGIN:STANDARD
DTSTART:20231029T020000
TZOFFSETFROM:+0200
TZOFFSETTO:+0100
TZNAME:CET
END:STANDARD
END:VTIMEZONE
END:VCALENDAR